BEGIN:VCALENDAR
VERSION:2.0
PRODID:-//Acme Widgets\, Inc.//NONSGML ExportToCalendar//EN
CALSCALE:GREGORIAN
BEGIN:VEVENT
DTSTAMP:20260423T083629Z
UID:f0981f7d-2ee9-463b-97c2-e1fdf8861dc9
DTSTART:20260424T170000
DTEND:20260424T173000
DESCRIPTION:Inspection for 24 Westbury Street\, CHIPPING NORTON NSW 2170
LOCATION:24 Westbury Street\, CHIPPING NORTON NSW 2170
SUMMARY:24 Westbury Street\, CHIPPING NORTON NSW 2170
END:VEVENT
END:VCALENDAR
