BEGIN:VCALENDAR
VERSION:2.0
PRODID:-//Acme Widgets\, Inc.//NONSGML ExportToCalendar//EN
CALSCALE:GREGORIAN
BEGIN:VEVENT
DTSTAMP:20260421T083432Z
UID:3b142f80-906a-4f5e-a574-1f82b04232ca
DTSTART:20260418T100000
DTEND:20260418T103000
DESCRIPTION:Inspection for 3 Pritchard Avenue\, HAMMONDVILLE NSW 2170
LOCATION:3 Pritchard Avenue\, HAMMONDVILLE NSW 2170
SUMMARY:3 Pritchard Avenue\, HAMMONDVILLE NSW 2170
END:VEVENT
END:VCALENDAR
